BEGIN:VCALENDAR
VERSION:2.0
PRODID:-//hacksw/handcal//NONSGML v1.0//EN
CALSCALE:GREGORIAN
BEGIN:VEVENT
DTEND;TZID="W. Europe Standard Time":20251123T130000
UID:69e8d298a1c82
DTSTAMP:20260422T155224
LOCATION:Oberer Kirchenweg 1\, 82131 Gauting
DESCRIPTION:Im Rahmen der Exkursion besuchen wir gemeinsam mit Autorin Katja Sebald die Räumlichkeiten des Archivs in München-Solln zu einem Gespräch mit Julia Geiger\, Leiterin des Archiv Geiger und Enkelin des Künstlers. Die beiden Kunsthistorikerinnen sprechen vor Ort über den Werdegang und das künstlerische Schaffen von Rupprecht Geiger. In den 1950er Jahren entwickelte er den für ihn charakteristischen Stil der Farbfeldmalerei mit starker\, expressiver Farbigkeit und sukzessiver Abkehr von gegenständlicher Formgebung. Die Farbe Rot mit ihrer starken Symbolkraft nimmt dabei eine besondere Position ein.

Im Gespräch\n
JULIA GEIGER\, Leitung und Geschäftsführung Archiv Geiger&nbsp\;\n
KATJA SEBALD\, Autorin des Buchs Künstler innen. Häuser außen

Treffpunkt&nbsp\;\n
Archiv Geiger\, Muttenthalerstraße 26\, 81477 München\n
Teilnahme nur mit vorheriger Ticketbuchung möglich\n
&nbsp\;

JULIA GEIGER leitet seit 2010 das Archiv Geiger. Nach ihrem Studium der Kunstgeschichte in München arbeitete sie eng mit Rupprecht Geiger zusammen. Als Enkelin des Künstlers hat sie besonders tiefe Einblicke in dessen Werk\, was sich in ihrer Arbeit als Kuratorin und Autorin niederschlägt. So erstellte sie u.a. die Werkverzeichnisse von Rupprecht Geiger.

KATJA SEBALD kuratiert Ausstellungen\, schreibt Bücher und arbeitet als Kulturjournalistin\, unter anderem für die Süddeutsche Zeitung. Sie studierte an der Ludwig-Maximilians-Universität in München u.a. Kunstgeschichte und Neuere Deutsche Literatur. Für ihr Buch „Sehnsucht Starnberger See. Villen und ihre berühmten Bewohner im Portrait“ wurde sie 2022 mit dem Kulturpreis des Landkreises Starnberg ausgezeichnet.\n
&nbsp\;



www.archiv-geiger.de

&nbsp\;

Zum Themenschwerpunkt "Künstler innen. Häuser außen"

Mit diesem Themenschwerpunkt wollen wir die Wechselbeziehung zwischen Künstler*innen\, ihrer physischen Umgebung und kreativen Ausdruckskraft betrachten. Dabei wird deutlich\, wie maßgeblich Inspirationsquellen und das kreative Umfeld für Künstler*innen sind und wie auch Kunst und regionale Kultur miteinander in einem produktiven Austausch stehen.&nbsp\;

Mi 24.09.2025 - So 14.12.2025 | Ausstellung "Künstler innen. Häuser außen" | Eintritt frei\n
Mi 24.09.2025 | 19.00 | Ausstellungseröffnung mit Katja Sebald und Ulrike Myrzik | Eintritt frei\n
Mi 15.10.2025 | 20.00 | Vortrag &amp\; Film "Malerluft und Malerlust" | € 18 / € 15\n
So 16.11.2025 | 11.00 | Film "Münter &amp\; Kandinsky" | € 11 / € 10\, Tickets: Kino Breitwand\n
So 23.11.2025 | 11.00 | Exkursion &amp\; Gespräch: Archiv Geiger | € 15\n
So 07.12.2025 | 11.00 | Film "Die Villa und ihr Buchheim" | € 11 / € 10\, Tickets: Kino Breitwand\n
So 14.12.2025 | 15.00 | Führung zur Ausstellung | Eintritt frei\, Anmeldung erwünscht bis Mi 10.12.2025

URL;VALUE=URI:https://bosco-gauting.de/veranstaltungen/exkursion-gespraech-archiv-geiger-muenchen-solln
SUMMARY:Exkursion & Gespräch Archiv Geiger in München-Solln // Bosco Gauting
DTSTART;TZID="W. Europe Standard Time":20251123T110000
END:VEVENT
END:VCALENDAR
