BEGIN:VCALENDAR
VERSION:2.0
PRODID:-//hacksw/handcal//NONSGML v1.0//EN
CALSCALE:GREGORIAN
BEGIN:VEVENT
DTEND;TZID="W. Europe Standard Time":19700101T010000
UID:69e66edad4eb9
DTSTAMP:20260420T202218
LOCATION:Oberer Kirchenweg 1\, 82131 Gauting
DESCRIPTION:Samstag\n
12:15 | 13:15 | 14:15 | 15:15

Mit CAROLA BAMBAS\n
Carola Bambas ist Schauspielerin und Erzählkünstlerin. Sie hat an verschiedenen Bühnen im deutschsprachigen Raum gearbeitet und war in Film- und Fernsehproduktionen tätig. Als Theaterpädagogin gibt sie Workshops und Seminare. Im Jahr 2021 gründete sie gemeinsam mit drei Kolleginnen den Verein „Erzählkunst Bayern e.V.“. Zudem ist sie Mitglied im Verband der deutschen Erzählerinnen und Erzähler (VEE e.V.). Seit 2012 schreibt und performt sie Erzählprogramme für Kinder und Erwachsene.\n
www.carola-bambas.de\n
&nbsp\;\n
Sonntag\n
11:15 | 12:15 | 13:15 | 14:15

Mit MARTINA WEIGERT\n
Seit 2012 erzählt sie mit Begeisterung Volksmärchen aus aller Welt und auch sehr gerne Kinder- und Hausmärchen der Brüder Grimm. Hauptberuflich begleitet sie seit 2003 Menschen mit geistiger Behinderung unterschiedlichen Alters und erzählt hier gerne Märchen zusätzlich mit Unterstützer Kommunikation. Im September 2023 wurde sie in die Gilde der Erzählerinnen und Erzähler der Europäischen Märchengesellschaft aufgenommen.

Der Eintritt beträgt € 3 (zu bezahlen in der Jurte).

Die Veranstaltung ist Teil von: "BOSCO\, BAMBINI! Ein FamilienFest der Fantasie "

Kommt und erlebt ein Wochenende voller Abenteuer und Fantasie: bei bosco\, bambini! dreht sich alles um mitreißende Musik\, tolles Theater\, magische Geschichten und kreative Workshops. Taucht ein in die Welt des kleinen Korianders und in den Karneval der Tiere\, in Märchen\, Musik und viele Angebote zum Mitmachen. Wir freuen uns auf alle großen und kleinen Kinder!

Fr 13.03.2026 - So 15.03.2026&nbsp\; &nbsp\;&nbsp\;&nbsp\;|&nbsp\; &nbsp\;&nbsp\;BOSCO\, BAMBINI! Ein FamilienFest der Fantasie&nbsp\;\n
Fr 13.03.2026 | 19.00 |&nbsp\; Auftaktkonzert&nbsp\; "Julia Fischer &amp\; Lena Neudauer" | € 18 / € 15\n
Sa 14.03.2026 |&nbsp\;&nbsp\; 12:15 + 13:15 + 14:15 + 15:15&nbsp\; &nbsp\; | Märchenjurte am Vorplatz &nbsp\;\n
Sa 14.03.2026 | 10.00 - 12.00 |&nbsp\;&nbsp\; Workshop&nbsp\; "Was für ein Theater" | € 15 | 4 - 10 Jahre\n
Sa 14.03.2026 | 11.00 | &nbsp\;Kindertheater&nbsp\; "Als der&nbsp\; kleine Koriander&nbsp\; kam" | € 10 | Ab 3 Jahren | 45 min\n
Sa 14.03.2026 | 14.00 - 15.30 | Workshop&nbsp\; "Fritzi\, Ferkel\, Ferdinand..." | € 15 | 4 - 8 Jahre\n
Sa 14.03.2026 | 16.00 | Kindertheater "Pony im Koffer"&nbsp\; | € 10 | Ab 5 Jahren | 55 min\n
Sa 14.03.2026&nbsp\; | 20.00 | Songwriter-Kabarett&nbsp\; &nbsp\;"Mackefisch"&nbsp\; |&nbsp\;&nbsp\;&nbsp\; Für Erwachsene und Jugendliche |&nbsp\;&nbsp\;&nbsp\; &nbsp\;€ 18 / € 15\n
So 15.03.2026 |&nbsp\;&nbsp\; 11:15 + 12:15 + 13:15 + 14:15&nbsp\; &nbsp\; | Märchenjurte am Vorplatz &nbsp\;\n
So 15.03.2026&nbsp\; |&nbsp\; 11.00 | Konzert&nbsp\; "Karneval der Tiere" | € 10 | Ab 5 Jahren | 45 min\n
So 15.03.2026&nbsp\; &nbsp\;&nbsp\;|&nbsp\; &nbsp\;14.00 - 15.30&nbsp\; &nbsp\;|&nbsp\;&nbsp\; Workshop&nbsp\; &nbsp\;"Bühne frei!"&nbsp\; |&nbsp\; € 15 | 6 - 12 Jahre\n
So 15.03.2026 | 15.00 | Konzert&nbsp\; "Karneval der Tiere" | € 10 | Ab 5 Jahren | 45 min




&nbsp\;Unterstützt von &nbsp\;

\n
&nbsp\;






&nbsp\;








&nbsp\;




URL;VALUE=URI:https://bosco-gauting.de/veranstaltungen/bosco-bambini-maerchenjurte-am-vorplatz_So
SUMMARY:bosco\, bambini Märchenjurte am Vorplatz // Bosco Gauting
DTSTART;TZID="W. Europe Standard Time":19700101T010000
END:VEVENT
END:VCALENDAR
