BEGIN:VCALENDAR
VERSION:2.0
PRODID:-//hacksw/handcal//NONSGML v1.0//EN
CALSCALE:GREGORIAN
BEGIN:VEVENT
DTEND;TZID="W. Europe Standard Time":20260401T160000
UID:69e97912a511b
DTSTAMP:20260423T034242
LOCATION:Oberer Kirchenweg 1\, 82131 Gauting
DESCRIPTION:
Kostenloser Abholservice:

Der Bürgerbus holt Sie gerne ab und bringt Sie auch wieder nach Hause.\n
Bitte melden Sie sich bei Bedarf bis Dienstagmittag bei Frau Hollstein oder Frau Kaindl\, Tel. 893 37 -121 oder -122.

Über Ihren Besuch freut sich Ihr Seniorencafé-Team!


URL;VALUE=URI:https://bosco-gauting.de/node/5589
SUMMARY:Gemeinde Gauting Seniorencafé // Bosco Gauting
DTSTART;TZID="W. Europe Standard Time":20260401T140000
END:VEVENT
END:VCALENDAR
