BEGIN:VCALENDAR
VERSION:2.0
PRODID:-//hacksw/handcal//NONSGML v1.0//EN
CALSCALE:GREGORIAN
BEGIN:VEVENT
DTEND;TZID="W. Europe Standard Time":19700101T010000
UID:69e6ac9e7fa40
DTSTAMP:20260421T004550
LOCATION:Oberer Kirchenweg 1\, 82131 Gauting
DESCRIPTION:Idylle\, Verg&auml\;nglichkeit\, Wildheit und Zerfall: Ninfa ist ein suggestiver Ort\, etwa eine Autostunde s&uuml\;dlich von Rom in der pontinischen Ebene\, zu F&uuml\;&szlig\;en der Monti Lepini. Ruinenstadt und englischer Landschaftsgarten. Die im Mittelalter an dieser Stelle entstandene Stadt verfiel seit dem ausgehenden 14. Jahrhundert nach und nach. Im 20. Jahrhundert wurden die von zahlreichen Pflanzen &uuml\;berwucherten Ruinen von den Besitzern\, der alten r&ouml\;mischen Adelsfamilie Caetani\, in einen englischen Landschaftsgarten umgewandelt. Die wasserreiche S&uuml\;dlage unterhalb der H&uuml\;gel sowie das innerhalb der mittelalterlichen Stadtmauern herrschende spezifische Mikroklima beg&uuml\;nstigen eine einzigartige Symbiose zwischen Ruinen und Pflanzen\, Wasserl&auml\;ufen und seltenen Tieren. Seit 2000 ist Ninfa Naturdenkmal der Region Latium.\n
\n
Christoph Brech\, bedeutender deutscher Foto- und Videok&uuml\;nstler: Das bewusste Wahrnehmen des Vergehens der Zeit spielt eine zentrale Rolle in seinen Arbeiten. Seine Werke befinden sich in renommierten Sammlungen und Museen.\n
\n
\n
\n
Die Ausstellung ist zu besichtigen bis 07.02.2015 w&auml\;hrend der regul&auml\;ren &Ouml\;ffnungszeiten des bosco und bei allen Abendveranstaltungen.&nbsp\;
URL;VALUE=URI:https://bosco-gauting.de/veranstaltungen/christoph-brech-ninfa-fotos-und-videos
SUMMARY:Christoph Brech Ninfa - Fotos und Videos // Bosco Gauting
DTSTART;TZID="W. Europe Standard Time":19700101T010000
END:VEVENT
END:VCALENDAR
