BEGIN:VCALENDAR
VERSION:2.0
PRODID:-//hacksw/handcal//NONSGML v1.0//EN
CALSCALE:GREGORIAN
BEGIN:VEVENT
DTEND;TZID="W. Europe Standard Time":20260417T220000
UID:69e9989269982
DTSTAMP:20260423T055706
LOCATION:Oberer Kirchenweg 1\, 82131 Gauting
DESCRIPTION:Das Isaria Kollektiv bringt Verdis „La Traviata“ in einer wunderbaren Kammerfassung ins Bosco Gauting.

Violetta Valéry ist eine starke Frau\, die zwischen Glanz und moralischem Abgrund lebt und versucht\, sich in der Gesellschaft zu behaupten – bis sie sich\, im Schatten einer tödlichen Krankheit\, gegen jede Vernunft\, in den provinziellen und impulsiven Alfredo verliebt. In dem Wissen um ihr nahendes Ende wagt sie dennoch den Schritt in eine Liebe\, die sie sich bislang selbst verweigert hat. Doch die Konventionen ihrer Zeit und die Erwartungen der Männerwelt lassen ihr keinen Ausweg. Ihr Schicksal ist nicht der Kampf um ein freies Leben\, sondern ein leiser Abschied von einer Welt\, die ihr keine Zukunft mehr bieten kann.

In einer faszinierenden Bearbeitung für Kammerensemble von Matthias Wegele präsentiert das Isaria Kollektiv unter der Leitung des Münchner Dirigenten Andreas Vogler Verdis Meisterwerk in einer intensiven\, halbszenischen Kammerfassung (in italienischer Originalsprache).

Diese kompakte Inszenierung bringt Musik\, Drama und große Emotionen in unmittelbare Nähe zum Publikum – getragen von einem kleinen\, aber hochkarätigen Kammerorchester und renommierten Gesangssolist:innen.

Violetta Valéry: Elif Aytekin\n
Alfredo Germont: Michael Ha\n
Giorgio Germont: Gary Martin

Kammerorchester des Isaria Kollektivs\n
Musikalische Leitung: Andreas Vogler\n
Bearbeitung: Matthias Wegele\n
Regie: Horst Dinges\n
Videokunst: Michael Gene Aichner

Vorstellungsdauer: ca. 100 Minuten. Pause nach dem 2. Akt



URL;VALUE=URI:https://bosco-gauting.de/veranstaltungen/isaria-kollektiv-giuseppe-verdi-la-traviata-kammerfassung
SUMMARY:Isaria Kollektiv Giuseppe Verdi – LA TRAVIATA (Kammerfassung) // Bosco Gauting
DTSTART;TZID="W. Europe Standard Time":20260417T200000
END:VEVENT
END:VCALENDAR
