BEGIN:VCALENDAR
VERSION:2.0
PRODID:-//hacksw/handcal//NONSGML v1.0//EN
CALSCALE:GREGORIAN
BEGIN:VEVENT
DTEND;TZID="W. Europe Standard Time":20260506T210000
UID:69e75af9b85c6
DTSTAMP:20260421T130945
LOCATION:Oberer Kirchenweg 1\, 82131 Gauting
DESCRIPTION:Das Licht von Hunderten Kerzen wird eine unvergessliche Atmosphäre für dieses einzigartige Konzert schaffen.\n
Das Programm\, dargeboten von einem Streichquartett\, umfasst eine Auswahl der bekanntesten Coldplay-Stücke\, darunter Hits wie „Fix You“\, „Yellow“ und „Viva La Vida“\, die die Herzen von Fans auf der ganzen Welt erobert haben.

URL;VALUE=URI:https://bosco-gauting.de/veranstaltungen/az-event-production-coldplay-musik-bei-kerzenschein
SUMMARY:AZ Event Production Coldplay Musik bei Kerzenschein // Bosco Gauting
DTSTART;TZID="W. Europe Standard Time":20260506T190000
END:VEVENT
END:VCALENDAR
