BEGIN:VCALENDAR
VERSION:2.0
PRODID:-//hacksw/handcal//NONSGML v1.0//EN
CALSCALE:GREGORIAN
BEGIN:VEVENT
DTEND;TZID="W. Europe Standard Time":20260508T213000
UID:69e67fd08d7b6
DTSTAMP:20260420T213440
LOCATION:Oberer Kirchenweg 1\, 82131 Gauting
DESCRIPTION:Es spielen wie in den vergangenen Jahren die Bigbands der Musikschulen Gauting-Stockdorf und Gilching. Auch wieder dabei ist die Bigband des Otto-von-Taube-Gymnasiums. Neu in diesem Jahr ist die neu gegründete Würmtal-Bigband\, die sich aus Mitspielern aus dem gesamten Würmtal zusammensetzt.\n
Gemeinsam mit dem Lions Club München-Würmtal wird der Swingabend als Benefizkonzert veranstaltet. Die Spenden kommen in diesem Jahr dem Mädchenheim Gauting zugute.

URL;VALUE=URI:https://bosco-gauting.de/veranstaltungen/musikschule-gauting-stockdorf-ev-18-gautinger-swingabend
SUMMARY:Musikschule Gauting Stockdorf e.V. 18. Gautinger Swingabend // Bosco Gauting
DTSTART;TZID="W. Europe Standard Time":20260508T193000
END:VEVENT
END:VCALENDAR
