BEGIN:VCALENDAR
VERSION:2.0
PRODID:-//hacksw/handcal//NONSGML v1.0//EN
CALSCALE:GREGORIAN
BEGIN:VEVENT
DTEND;TZID="W. Europe Standard Time":20260609T160000
UID:69eb5e0a1695f
DTSTAMP:20260424T141154
LOCATION:Oberer Kirchenweg 1\, 82131 Gauting
DESCRIPTION:Wie kann man die Kosten für Pflege noch stemmen? Welche Unterstützungsmöglichkeiten gibt es? In diesem Vortrag erhalten Sie einen Überblick über die finanziellen Hilfen und Wege\, um Pflegeleistungen auch langfristig bezahlen zu können.

Der Vortrag richtet sich an alle\, die sich mit den finanziellen Aspekten der Pflege auseinandersetzen müssen – sowohl für sich selbst als auch für Angehörige.

Veranstaltung in Zusammenarbeit mit dem Pflegestützpunkt Starnberg.

Referentin:&nbsp\; &nbsp\;Fr.Justyna Sikora-Arnold\, Pflegeberaterin\, Landratsamt Starnberg

Der Eintritt ist frei.

URL;VALUE=URI:https://bosco-gauting.de/veranstaltungen/seniorenbeirat-gauting-wie-kann-ich-mir-die-pflege-noch-leisten
SUMMARY:Seniorenbeirat Gauting Wie kann ich mir die Pflege noch leisten? // Bosco Gauting
DTSTART;TZID="W. Europe Standard Time":20260609T140000
END:VEVENT
END:VCALENDAR
