BEGIN:VCALENDAR
VERSION:2.0
PRODID:-//hacksw/handcal//NONSGML v1.0//EN
CALSCALE:GREGORIAN
BEGIN:VEVENT
DTEND;TZID="W. Europe Standard Time":20151216T220000
UID:69ece65a0ad68
DTSTAMP:20260425T180546
LOCATION:Oberer Kirchenweg 1\, 82131 Gauting
DESCRIPTION:19.00 KONZERTEINF&Uuml\;HRUNG DURCH REINHARD PALMER

PROGRAMM:\n
RACHMANINOW Sonate f&uuml\;r Cello und Klavier\, op. 19\n
PROKOFJEW Zwei Arrangements aus &bdquo\;Cinderella&ldquo\;\n
RACHMANINOW Vocalise\, op. 34\n
PROKOFJEW Sonate f&uuml\;r Cello und Klavier\, op. 119

URL;VALUE=URI:https://bosco-gauting.de/veranstaltungen/johannes-moser-violoncello-benjamin-moser-klavier-prokofjew-rachmaninow
SUMMARY:Johannes Moser\, Violoncello & Benjamin Moser\, Klavier Prokofjew & Rachmaninow // Bosco Gauting
DTSTART;TZID="W. Europe Standard Time":20151216T200000
END:VEVENT
END:VCALENDAR
