BEGIN:VCALENDAR
VERSION:2.0
PRODID:-//hacksw/handcal//NONSGML v1.0//EN
CALSCALE:GREGORIAN
BEGIN:VEVENT
DTEND;TZID="W. Europe Standard Time":20150927T220000
UID:69ea9945e78a2
DTSTAMP:20260424T001221
LOCATION:Oberer Kirchenweg 1\, 82131 Gauting
DESCRIPTION:Die W&uuml\;rde des Menschen wird zunehmend zum Diskussionsthema. Welche W&uuml\;rde haben Menschen in einer Zeit\, die alles nach seiner Funktion bemisst und dem Diktat des Nutzens unterwirft? Welchen Wert haben Dinge und nat&uuml\;rliche Erscheinungen? Ohne W&uuml\;rde verliert der Mensch seine Selbstachtung und seinen Sinn. Die Dinge verlieren ihre Eigenbedeutung und werden zum Gegenstand des bedenkenlosen Verschlei&szlig\;es. Wie stellt sich eine neue Achtung vor dem Leben ein?
URL;VALUE=URI:https://bosco-gauting.de/veranstaltungen/prof-joachim-kunstmann-wuerde-ueber-bedeutung-und-wert
SUMMARY:Prof. Joachim Kunstmann Würde. Über Bedeutung und Wert // Bosco Gauting
DTSTART;TZID="W. Europe Standard Time":20150927T200000
END:VEVENT
END:VCALENDAR
