BEGIN:VCALENDAR
VERSION:2.0
PRODID:-//hacksw/handcal//NONSGML v1.0//EN
CALSCALE:GREGORIAN
BEGIN:VEVENT
DTEND;TZID="W. Europe Standard Time":20151209T220000
UID:69e8f76b4472d
DTSTAMP:20260422T182931
LOCATION:Oberer Kirchenweg 1\, 82131 Gauting
DESCRIPTION:In der Kunstkammer des Abgedrehten finden sich einige Herrschaften\, die dem Erhabenen durchaus nicht abhold sind\, denen jedoch die N&auml\;he des Erhabenen zum L&auml\;cherlichen tief vertraut ist. In dem 1746/47 geschriebenen Roman Tom Jones Die Geschichte eines Findlings f&uuml\;llt Henry Fielding diese N&auml\;he gern mit etwas Trinkbarem: &bdquo\;Und Bier\, Geselle der Geschichte\, /Mildert den ernsten Tr&uuml\;bsinn der Berichte.&ldquo\; Davon kann es kaum zu wenig geben: &bdquo\;Was den Herrn Wirt betrifft\, so war Trinken sein Beruf\, und der Alkohol wirkte auf ihn ebenso wenig wie auf irgendein anderes Gef&auml\;&szlig\; im Hause&ldquo\;. Laurence Sterne bringt es in seinem ein paar Jahre sp&auml\;ter geschriebenen Roman Tristam Shandy fertig\, seinen Helden im ersten Buch mit knapper Not zeugen zu lassen\, im dritten halb und im vierten Buch ganz geb&auml\;ren zu lassen\, womit man sieht\, wie wichtig dergleichen im Leben eines Menschen ist. Dabei w&auml\;re die Zeugung schon beinah missgl&uuml\;ckt: &bdquo\;Sag doch\, mein lieber Mann&ldquo\;\, fragt seine Mutter sozusagen mittendrin\, &bdquo\;hast du auch nicht vergessen\, die Uhr aufzuziehen?&ldquo\; Was den Vater zu dem Ausruf bewegt: &bdquo\;Hat je eine Frau seit Erschaffung der Welt einen Mann mit einer so dummen Frage unterbrochen?&ldquo\; Ein Leser m&ouml\;chte gar die Antwort noch einmal erfahren\, doch antwortet der Autor mit: &bdquo\;Nichts&ldquo\;. Und Jean Paul darf nat&uuml\;rlich nicht fehlen in dieser Reihe &ndash\; selbst wenn es seinem Zeitgenossen\, dem Geheimrath Goethe zu Weimar\, etwas aufst&ouml\;&szlig\;t dabei\, wenn Jean Paul nach Weimar kommt und sagt: &bdquo\;Ach\, hier sind Weiber!&ldquo\; Doch auch in Abwesenheit des Jean Paul hat Goethe etwas zu &auml\;rgern an ihm: Als ihn das bei Herzogin Amalia permanent im Schl&ouml\;&szlig\;chen Tiefurt aufgetischte Sauerkraut verdrie&szlig\;t\, und er\, da sich alle Proteste dagegen als vergeblich erwiesen hatten\, sich ins Nebenzimmer begibt &ndash\; was liegt da? Ein Jean Paulscher Roman\, seinerzeit Bestseller-Autor\, vor allem aufgrund starker Nachfrage in der weiblichen Leserschaft. Goethe liest etwas darin\, springt dann aber auf und ruft: &bdquo\;Nein\, das ist zu arg! Erst Sauerkraut und dann f&uuml\;nfzehn Seiten Jean Paul! Das halte aus\, wer will!!&ldquo\; Richtig sch&ouml\;n absurd wird es u.a. auch bei Daniil Charms \, dessen Texte zum Beispiel so enden: &bdquo\;So dass unklar ist\, um wen es hier eigentlich geht. Reden wir lieber nicht weiter dar&uuml\;ber.&ldquo\;\n
&nbsp\;
URL;VALUE=URI:https://bosco-gauting.de/veranstaltungen/gerd-holzheimer-das-sterbende-schwein-die-abgedrehte-kunstkammer
SUMMARY:Gerd Holzheimer Das sterbende Schwein - Die abgedrehte Kunstkammer // Bosco Gauting
DTSTART;TZID="W. Europe Standard Time":20151209T200000
END:VEVENT
END:VCALENDAR
