BEGIN:VCALENDAR
VERSION:2.0
PRODID:-//hacksw/handcal//NONSGML v1.0//EN
CALSCALE:GREGORIAN
BEGIN:VEVENT
DTEND;TZID="W. Europe Standard Time":20151212T220000
UID:69e8f771bcb53
DTSTAMP:20260422T182937
LOCATION:Oberer Kirchenweg 1\, 82131 Gauting
DESCRIPTION:Stellen Sie sich folgende Situation vor: Sie fahren mit einem 30-Tonner eine stark absch&uuml\;ssige Stra&szlig\;e hinunter\, als pl&ouml\;tzlich die Bremsen versagen. Direkt vor Ihnen auf der Stra&szlig\;e steht ein Kinderchor und singt Weihnachtslieder. Sie k&ouml\;nnten nun nach links in eine Notausfahrt ausweichen\, dort aber steht eine Gruppe Investmentbanker. Wie verhalten Sie sich?


Im Laufe eines jeden Lebens stellt sich die Frage nach Recht und Unrecht. Was ist gut\, was ist b&ouml\;se? Die Entscheidung ist schwerer\, als man denkt. Denn wenn Sie Ihre Gro&szlig\;mutter mit einem Gewehr aus 500 Meter Entfernung treffen\, dann sind Sie zwar ein guter Sch&uuml\;tze aber kein guter Enkel. Wenn Sie aber b&ouml\;s danebenschie&szlig\;en\, sind Sie immer noch kein guter Enkel\, nur weil Sie die Oma nicht gut getroffen haben. Sie sehen\, das mit Gut und B&ouml\;se ist kompliziert.

Zweifelsfrei rundum gut ist\, da&szlig\; wir eine Justiz haben\, die uns hier weiterhilft. Mit einleuchtenden Paragrafen wie &sect\;57 StGB: &quot\;Niemand darf gegen seinen Willen aus der Haft entlassen werden&quot\;. Oder dem wegweisenden &sect\;7 Jagdgesetz &quot\;In R&auml\;umen\, die dem Aufenthalt von Menschen dienen\, darf nicht gejagt werden.&quot\;. Nicht zu vergessen all die segensreichen Urteile wie zB jenes vom Verwaltungsgericht M&uuml\;nchen: &quot\;Klemmt sich ein Polizist in der Arbeitszeit den Mittelfinger an der Au&szlig\;ent&uuml\;r zur Toilette\, so ist dies ein Arbeitsunfall. Kein Arbeitsunfall ist es\, wenn er sich den Mittelfinger an der Klot&uuml\;r einklemmt.&quot\; Und dankbar sind wir auch dem Bundesarbeitsgericht f&uuml\;r seine kl&auml\;renden Worte: &quot\;Einem verstorbenen Arbeitnehmer steht kein Urlaubsanspruch zu.&quot\;

Das sind interessante Informationen rund um den Justizstandort Deutschland\, den Werner Koczwara in seinem neuen Programm &quot\;Einer flog &uuml\;bers Ordnungsamt&quot\; wieder einmal hochkomisch kommentiert. Und mit konstruktiven Vorschl&auml\;gen anreichert\, wie zum Beispiel der Einf&uuml\;hrung der Abseitsregel an der gleichberechtigten Kreuzung. Oder die Ausdehnung des Anti-Diskriminierungsgesetzes auf den Stra&szlig\;enverkehr. Ferner wird kritisch nachgefragt\, wann die EU wohl anordnet\, da&szlig\; im Sinne der allgemeinen Gleichstellung in jedem Kuhstall auch ein schwuler Stier zu stehen hat.

Werner Koczwara hat mit seinem juristischen Mehrteiler &quot\;Am achten Tag schuf Gott den Rechtsanwalt&quot\; nicht nur eine fulminante Justiz-Satire sondern auch Kabarettgeschichte geschrieben. Denn das Programm wird nicht nur auf Kabarettb&uuml\;hnen sondern auch regelm&auml\;&szlig\;ig in renommierten Theatern aufgef&uuml\;hrt\, so von Dieter Hallervorden im Berliner Schlo&szlig\;parktheater. Mehr als 1200 Auff&uuml\;hrungen in 15 Jahren machen es zu einem der erfolgreichsten Programme des deutschen Kabaretts. An diese Me&szlig\;latte legt &quot\;Einer flog &uuml\;bers Ordnungsamt&quot\; nun an. Freuen Sie sich auf einen Abend mit gro&szlig\;em Humor\, starken Pointen und kabarettistischem Tiefgang. (Zur Vorbereitung auf den Abend k&ouml\;nnen Sie schon mal gr&uuml\;beln\, welche Berufsgruppe jener rechtschreibschwache Polizist wohl meinte\, als er im Polizeibericht von einer &quot\;Gelegenheitsbrustt&auml\;towierten&quot\; schrieb.)\n
\n



URL;VALUE=URI:https://bosco-gauting.de/veranstaltungen/werner-koczwara-einer-flog-uebers-ordnungsamt
SUMMARY:Werner Koczwara Einer flog übers Ordnungsamt // Bosco Gauting
DTSTART;TZID="W. Europe Standard Time":20151212T200000
END:VEVENT
END:VCALENDAR
