BEGIN:VCALENDAR
VERSION:2.0
PRODID:-//hacksw/handcal//NONSGML v1.0//EN
CALSCALE:GREGORIAN
BEGIN:VEVENT
DTEND;TZID="W. Europe Standard Time":20151210T220000
UID:69ece6e62c116
DTSTAMP:20260425T180806
LOCATION:Oberer Kirchenweg 1\, 82131 Gauting
DESCRIPTION:1994 erschien er zum ersten Mal auf der B&uuml\;hne\, Deutschlands P&auml\;dagoge Nr. 1\, bedauert und bejubelt: Horst Schroths Lehrer Olaf Laux \, mit dem von Publikum und Kritik gefeierten Kult-Programm &bdquo\;Null Fehler&ldquo\;. Exakt nach 20 Jahren ist Lehrer Laux wieder da.\n
&Auml\;lter? Ja\, klar! Reifer? Nicht so ganz! Aber kurz vor der Pensionierung\, nach 40 dornenvollen Dienstjahren\, zieht Olaf Laux Bilanz. Das Leben als Lehrer\, Ehemann und Mensch hat ihn gnadenlos durchgebeutelt und tiefe Spuren hinterlassen. Denn Olaf\, der &uuml\;berzeugte 68er\, Frontschwein im Kampf f&uuml\;r Reformen aller Art\, stand schon vor 20 Jahren vor den Scherben seiner Ideale. Also einfach aufgeben? Niemals! Er stieg in den Ring. Gegen arrogante B&uuml\;rokraten\, inkompetente Politiker und ignorante Helicopter- Eltern. Unbeirrt hat er sein Ding durchgezogen und trotz aller Verlockungen dem bet&ouml\;renden Reiz der Fr&uuml\;hpensionierung widerstanden.\n
Und heute? Ist er immer noch einer dieser hochgez&uuml\;chteten Theoretiker\, die alles\, aber auch alles bis zur Gesichtsl&auml\;hmung ausdiskutieren m&uuml\;ssen? Ist er immer noch der selbsternannte Nonkonformist mit dem v&ouml\;llig uncoolen Mitsubishi- Bus\, der aber heimlich vom Luxus tr&auml\;umt und nach sinnlichen Gen&uuml\;ssen schmachtet? Was wurde aus seinen Statements wie zum Beispiel &bdquo\;Was soll ich denn sonst machen? Ich hab`doch nichts gelernt\, ich war doch mein Leben lang in der Schule!&ldquo\;? Was wurde aus Olaf Laux (Deutsch und Geschichte)? Was wurde aus seiner Ehe mit seiner Frau Marianne (Erdkunde und Biologie)? Konnten sie sich aus ihren miefig-ideologischen Zwangsjacken befreien?\n
Horst Schroth macht sich an die Arbeit\, um diese Fragen zu kl&auml\;ren. Als kongenialer Partner an seiner Seite ist nat&uuml\;rlich auch diesmal\, wie vor 20 Jahren schon\, der Kult-Regisseur Ulrich Waller.\n
NULL FEHLER &ndash\; Lehrer Laux. Das Comeback. Turbulent\, mitrei&szlig\;end\, gnadenlos authentisch und nat&uuml\;rlich &ndash\; wie immer bei Horst Schroth &ndash\; garantiert saukomisch!\n
\n
\n
&nbsp\;
URL;VALUE=URI:https://bosco-gauting.de/veranstaltungen/horst-schroth-null-fehler
SUMMARY:Horst Schroth Null Fehler! // Bosco Gauting
DTSTART;TZID="W. Europe Standard Time":20151210T200000
END:VEVENT
END:VCALENDAR
