BEGIN:VCALENDAR
VERSION:2.0
PRODID:-//hacksw/handcal//NONSGML v1.0//EN
CALSCALE:GREGORIAN
BEGIN:VEVENT
DTEND;TZID="W. Europe Standard Time":20151212T180000
UID:69e8f58930909
DTSTAMP:20260422T182129
LOCATION:Oberer Kirchenweg 1\, 82131 Gauting
DESCRIPTION:GE&Auml\;NDERTE VORSTELLUNGSZEIT!\n
Zwei Frauen erz&auml\;hlen und spielen mit Nadel und Faden in Erinnerung an ihre Kindheit. Da war alles anders: Da war M&auml\;rchenzeit: Und hinten beim Stall G&auml\;nsezeit. Es weihnacht\, es schneit Federn\, weltein und weltaus. Das Kind verbr&uuml\;dert sich mit dem Tier und &ouml\;ffnet die T&uuml\;r&hellip\;\n
&nbsp\;\n
Eine weihnachtliche Geschichte f&uuml\;r alle ab 4 Jahren
&nbsp\;
Spielerinnen: Margrit Gysin und Irene Beeli\n
Regie: Andrea Gronemeyer\n
\n
Margrit Gysin ist Absolventin der Theaterschule J. Lecoq Paris\, ausgebildete Kinderg&auml\;rtnerin\, Heilp&auml\;dagogin und Puppenspieltherapeutin. Seit 1976 ist sie freischaffende Figurentheaterspielerin und gibt seit 1980 Unterricht in Theaterp&auml\;dagogik\, Figurenspiel und Kreativit&auml\;t an Seminaren\, Kunst- und Fachhochschulen im In- und Ausland. Ausserdem ist sie Leiterin der Weiterbildung Figurenspiel an der Z&uuml\;rcher Hochschule der K&uuml\;nste.\n
\n
Andrea Gronemeyer ist Direktorin am Schnawwl\, das Kinder- und Jugendtheater am Nationaltheater Mannheim. Ihr steht dort ein eigenes Schauspielensemble und eine eigene Spielst&auml\;tte f&uuml\;r ein junges Publikum zur Verf&uuml\;gung\; j&auml\;hrlich werden aus einem Repertoire von zehn St&uuml\;cken etwa 330 Vorstellungen gespielt\, auch auf Gastspielreisen im In- und Ausland.\n
\n
WAS MIR BEI MEINER ARBEIT WICHTIG IST:\n
&quot\;Das Figurentheater ist f&uuml\;r mich Verk&ouml\;rperungskunst. M&auml\;rchen und Geschichten stecken voller Bilder. die emotional und seelisch ber&uuml\;hren\, Sie f&ouml\;rdern Lebendigkeit und Kreativit&auml\;t. Im Alleingang spiele ich f&uuml\;r Kinder und Erwachsene. Theater spielen heisst f&uuml\;r mich: Geschichten erz&auml\;hlen.
Durch das Spiel bin ich immer wieder mit dem Neuen\, dem Kindlichen\, der Kreativit&auml\;t verbunden. Ich stehe in einem stetigen Prozess und erhalte dadurch viele Energien. In meinem Spiel geht es mir um das Geheimnis oder das Geheimnisvolle im Leben. W&auml\;hrend eines l&auml\;ngeren Gestaltungsprozesses erhalten die Figuren Form\, Ausdruck und Charakter. Ich verarbeite Textilien und Naturmaterialien. In der Verbindung der Materialien liegt Spannung und immer wieder der lebendige Bezug zur Natur. Figurentheater spielen heisst\, Material beleben\, durch Stimme\, Bewegung und Emotionalit&auml\;t.\n
Alle meine Figuren sind Teile von mir. Ich habe diese Figuren interessanterweise als Archetypen auch in den M&auml\;rchen gefunden.\n
Ich schreibe St&uuml\;cke &uuml\;ber Themen\, die mich interessieren: Andersartigkeit\, Solidarit&auml\;t\, Menschenw&uuml\;rde\, Sinnfragen. Es reizt mich\, aus unspektakul&auml\;ren Kleinigkeiten Geschichten entstehen zu lassen.&quot\;

URL;VALUE=URI:https://bosco-gauting.de/veranstaltungen/margrit-gysin-und-irene-beeli-auguste
SUMMARY:Margrit Gysin und Irene Beeli Auguste // Bosco Gauting
DTSTART;TZID="W. Europe Standard Time":20151212T160000
END:VEVENT
END:VCALENDAR
