BEGIN:VCALENDAR
VERSION:2.0
PRODID:-//hacksw/handcal//NONSGML v1.0//EN
CALSCALE:GREGORIAN
BEGIN:VEVENT
DTEND;TZID="W. Europe Standard Time":20151211T190000
UID:69e8f76b418aa
DTSTAMP:20260422T182931
LOCATION:Oberer Kirchenweg 1\, 82131 Gauting
DESCRIPTION:Meisterhaft\, wie nur wenige es k&ouml\;nnen\, erz&auml\;hlt die Figurenspielerin Margrit Gysin zeitlose\, m&auml\;rchenhafte und immer sehr ber&uuml\;hrende Geschichten auf der b&uuml\;hne\, in denen sich Theater\,\n
bildende Kunst und einf&uuml\;hlsame P&auml\;dagogik verbinden. In ihren Workshops vermittelt die international bekannte K&uuml\;nstlerin verschiedene erz&auml\;hlmethoden und au&szlig\;ergew&ouml\;hnliche k&uuml\;nstlerische Gestaltungsm&ouml\;glichkeiten f&uuml\;r Geschichten und M&auml\;rchen.\n
In diesem Kurs werden wir neue Wege zur eigenen Kreativit&auml\;t suchen und finden\, indem wir zeichnen\, kleben\, formen oder Bilder zum Spielen und Sprechen bringen. Wir arbeiten in\n
Gruppen-\, einzel- und Plenumsarbeit. Wir freuen uns sehr\, einen so hochkar&auml\;tigen Workshop anbieten zu k&ouml\;nnen.\n
In Zusammenarbeit mit der Schule der Fantasie Gauting.
URL;VALUE=URI:https://bosco-gauting.de/veranstaltungen/margrit-gysin-irene-beeli-2-taegiger-workshop-maerchenerfahrungen-und
SUMMARY:Margrit Gysin & Irene Beeli 2-tägiger Workshop: Märchenerfahrungen und Märchenspielformen // Bosco Gauting
DTSTART;TZID="W. Europe Standard Time":20151211T170000
END:VEVENT
END:VCALENDAR
