BEGIN:VCALENDAR
VERSION:2.0
PRODID:-//hacksw/handcal//NONSGML v1.0//EN
CALSCALE:GREGORIAN
BEGIN:VEVENT
DTEND;TZID="W. Europe Standard Time":20160511T220000
UID:69e693c14d983
DTSTAMP:20260420T225945
LOCATION:Oberer Kirchenweg 1\, 82131 Gauting
DESCRIPTION:Auch in diesem Jahr kommen Preistr&auml\;ger des Internationalen Musikwettbewerbs der ARD im Rahmen des Festivals der ARD-Preistr&auml\;ger f&uuml\;r ein Konzert nach Gauting. Die K&uuml\;nstler &ndash\; die sich f&uuml\;r diese Tournee oft das erste Mal als Kammermusikpartner treffen &ndash\; werden w&auml\;hrend einer kurzen\, intensiven Probenphase ein f&uuml\;r das Festival zusammengestelltes Programm erarbeiten. In unterschiedlichen Ensemble-Formationen werden sie in Gauting ein spannendes Programm zur Auff&uuml\;hrung bringen.\n
\n
SOOYEON LEE\, S&uuml\;dkorea\, Gesang\, 2. Preis &amp\; Publikumspreis (2015)\n
FRANCISCO L&Oacute\;PEZ MARTIN\, Spanien\, Fl&ouml\;te\, 2. Preis &amp\; Publikumspreis (2015)\n
DUO ANI UND NIA SULKHANISHVILI\, Georgien\, Klavierduo\, 2. Preis (2015)\n
ALEXEJ GERASSIMEZ\, Deutschland\, Schlagzeug\, 2. Preis (2014)\n
\n
19.00 Uhr Konzerteinf&uuml\;hrung durch den Kulturjournalisten Reinhard Palmer\n
\n
Sergej Prokofiev (1891-1953)\; Sonate f&uuml\;r Fl&ouml\;te und Klavier D-Dur\, op. 94\n
Moderato // Presto // Andante // Allegro con brio\n
&nbsp\;\n
Kurt Weill (1900-1950): Ofrah&rsquo\;s Lieder f&uuml\;r Sopran und Klavier\n
- In meinem Garten\n
- Nichts ist die Welt mir\n
- Er sah mir liebend in die Augen&nbsp\;&nbsp\;&nbsp\;&nbsp\;&nbsp\;&nbsp\;&nbsp\;\n
- Denkst du des k&uuml\;hnen Flugs der Nacht&nbsp\;&nbsp\;\n
- Nur dir f&uuml\;hrwahr&nbsp\;&nbsp\;&nbsp\;&nbsp\;&nbsp\;&nbsp\;&nbsp\;&nbsp\;&nbsp\;&nbsp\;&nbsp\;&nbsp\;&nbsp\;&nbsp\;&nbsp\;&nbsp\;&nbsp\;&nbsp\;&nbsp\;&nbsp\;&nbsp\;&nbsp\;&nbsp\;&nbsp\;&nbsp\;&nbsp\;

	
		
			&nbsp\;
			&nbsp\;
		
	

Toshi Ichiyanagi (geb. 1933): Paganini Personal f&uuml\;r Marimbaphon (Vibraphon) und Klavier\n
PAUSE\n
Alexej Gerassimez (geb. 1987):&nbsp\; Piazonore f&uuml\;r Vibraphon und Klavier\n
Franz Schubert (1797-1828):&nbsp\;\n
- Fr&uuml\;hlingsglaube D 686 (Text: Ludwig Uhland)\n
- Wonne der Wehmut D 260 (Text: Johann Wolfgang von Goethe)\n
- N&auml\;he des Geliebten D 162 (Text: Johann Wolfgang von Goethe)\n
&nbsp\;- Nacht und Tr&auml\;ume D 827 (Text: Matth&auml\;us von Collin)\n
&nbsp\;- Du bist die Ruh D 776 (Text: Friedrich R&uuml\;ckert)\n
&nbsp\;- Seligkeit D 433 (Text: Ludwig Christoph Heinrich H&ouml\;lty)\n
\n
Anton&iacute\;n Dvoř&aacute\;k (1841-1904) Legenden f&uuml\;r Klavier zu vier H&auml\;nden\, op. 59\n
Legend No.1 in D minor\n
Legend No.3 in G minor\n
Legend No.5 in As Major\n
Legend No.6 in Cis minor\n
Legend No.7 in A Major&nbsp\;&nbsp\;&nbsp\;&nbsp\;&nbsp\;&nbsp\;&nbsp\;&nbsp\;&nbsp\;&nbsp\;\n
&nbsp\;
URL;VALUE=URI:https://bosco-gauting.de/veranstaltungen/konzert-der-ard-preistraeger-alexej-gerassimez-sooyeon-lee-francisco-lopez-martin
SUMMARY:Konzert der ARD-Preisträger Alexej Gerassimez\, Sooyeon Lee\, Francisco López Martin\, Duo Ani &  Nia Sulkhanishvili // Bosco Gauting
DTSTART;TZID="W. Europe Standard Time":20160511T200000
END:VEVENT
END:VCALENDAR
