BEGIN:VCALENDAR
VERSION:2.0
PRODID:-//hacksw/handcal//NONSGML v1.0//EN
CALSCALE:GREGORIAN
BEGIN:VEVENT
DTEND;TZID="W. Europe Standard Time":20160601T220000
UID:69e694cbca1c4
DTSTAMP:20260420T230411
LOCATION:Oberer Kirchenweg 1\, 82131 Gauting
DESCRIPTION:VINETA SAREIKA\, Violine\n
ANTHEA KRESTON\, Violine\n
ECKART RUNGE\, Violoncello\n
GREGOR SIGL\, Viola&nbsp\;\n
\n
PROGRAMM:\n
Wolf: &quot\;Italienische Serenade&quot\; (8&#39\;)\n
Schostakowitsch: Streichquartett Nr. 5 B-Dur op. 92 (29&#39\;)\n
***\n
Beethoven: Streichquartett&nbsp\; Nr. 7 F-Dur op. 59 Nr. 1 &#39\;&#39\;Razumovsky&#39\;&#39\; (36&#39\;)\n
\n
Das in Berlin ans&auml\;ssige Artemis Quartett z&auml\;hlt heute zu den weltweit f&uuml\;hrenden Quartettformationen. Die Einspielungen des Ensembles wurden mit dem Preis der deutschen Schallplattenkritik\, dem &quot\;Gramophone Award&quot\;\, mehrfach mit dem &quot\;Diapason d&rsquo\;or&quot\; und mehrfach mit dem &quot\;ECHO Klassik&quot\; ausgezeichnet.\n
\n
Aktueller Beitrag aus der ZEIT zum neubesetzen Quartett: http://www.zeit.de/2016/12/artemis-quartett-nachfolger-friedemann-weigle-bratscher-musik

\n
&quot\;Die Interpretation des Artemis-Quartetts steht nicht nur technisch durchaus auf der Stufe auch der virtuosesten Konkurrenten &ndash\; sondern sie bietet auch musikalisch Bewegenderes als alle anderen!&quot\; JOACHIM KAISER\, S&Uuml\;DDEUTScHE ZEITUNG\n
\n
Nach einem halben Jahr der Trauer um Friedemann Weigle\, einer Zeit\, die mit dem Entschluss einherging\, das Ensemble fortzuf&uuml\;hren\, gibt das Artemis Quartett sein neues Mitglied bekannt: Die amerikanische Geigerin Anthea Kreston wird ab sofort die Position der 2. Geige &uuml\;bernehmen. Gregor Sigl schlie&szlig\;t in einer internen Rochade im Ensemble den Kreis und &uuml\;bernimmt den Part des Bratschisten.\n
Die in Chicago geborene Musikerin absolvierte ihr Studium sowohl bei Felix Galimir und Ida Kavafian am renommierten Curtis Institute of Music in Philadelphia\, als auch im Fach Kammermusik beim Vermeer und Emerson Quartet. Anthea Kreston war sieben Jahre Mitglied des Avalon Quartetts\, mit dem sie 2000 den ARD Wettbewerb gewann. 1999 gr&uuml\;ndete sie das Amelia Piano Trio. Mit beiden Ensembles konzertierte sie in den USA und Europa.\n
Eckart Runge und Anthea Kreston kennen sich seit zwanzig Jahren von einem Meisterkurs beim Juilliard Quartett\, an dem sie mit ihren Ensembles teilnahmen. Eckart Runge: &bdquo\;Schon damals fiel sie mir als au&szlig\;ergew&ouml\;hnlich brillante Musikerkollegin und gro&szlig\;e Pers&ouml\;nlichkeit auf. Sie bewarb sich nun auf die freie Stelle\, reiste zum Probespiel aus dem Westen der USA an und beeindruckte uns mit ihrem warmherzigen Charakter\, einer unb&auml\;ndigen Energie und vor allem mit ihrer fantastischen Qualit&auml\;t als Musikerin und Geigerin. Wir empfanden alle drei sofort\, dass sie auf ihre Weise die gro&szlig\;e Seele von Friedemann innehat und unser Quartett neu bereichern wird.&ldquo\;\n
Anthea Kreston: &ldquo\;It is with a full heart that I join the Artemis Quartet\, my favorite quartet since we were all students together at the Juilliard Quartet Seminar 20 years ago. To share a life with these tremendous souls and musicians will be the fulfillment of a dream I never anticipated could be realized.&rdquo\;\n
Das Artemis Quartett freut sich auf ein spannendes neues Kapitel seiner Quartettgeschichte!

URL;VALUE=URI:https://bosco-gauting.de/veranstaltungen/artemis-quartett-weltweit-fuehrend
SUMMARY:Artemis-Quartett Weltweit führend! // Bosco Gauting
DTSTART;TZID="W. Europe Standard Time":20160601T200000
END:VEVENT
END:VCALENDAR
