BEGIN:VCALENDAR
VERSION:2.0
PRODID:-//hacksw/handcal//NONSGML v1.0//EN
CALSCALE:GREGORIAN
BEGIN:VEVENT
DTEND;TZID="W. Europe Standard Time":20160917T220000
UID:69e908c2e2a67
DTSTAMP:20260422T194330
LOCATION:Oberer Kirchenweg 1\, 82131 Gauting
DESCRIPTION:Die erste Konzerth&auml\;lfte kontrastiert Schuberts Klaviertrio Nr. 1 mit einem neuen Percussionwerk von Johannes Fischer. Die zweite H&auml\;lfte gipfelt in der von Schostakowitsch autorisierten Fassung seiner 15. Sinfonie f&uuml\;r Klaviertrio und Schlagzeugduo von Viktor Derevianko.\n
\n
NATALIA PRISHEPENKO Violine\n
SEBASTIAN KLINGER Violoncello\n
MARIANNA SHIRINYAN Klavier\n
JOHANNES FISCHER Schlagzeug\n
DOMENICO MELCHIORRE Schlagzeug\n
\n
19.00 Uhr Konzerteinf&uuml\;hrung durch den Kulturjournalisten Reinhard Palmer\n
\n
Programm:\n
SCHUBERT Klaviertrio Nr. 1 in B-Dur (D 898)\n
FISCHER &raquo\;DmitriRemix&laquo\; f&uuml\;r Schlagzeuduo\n
SCHOSTAKOWITSCH Sinfonie Nr. 15 (in der vom Komponisten autorisierten Fassung von Viktor Derevianko\, f&uuml\;r Klaviertrio mit Schlagzeugduo)
URL;VALUE=URI:https://bosco-gauting.de/veranstaltungen/klaviertrio-schlagzeug-duo-schostakowitsch-projekt
SUMMARY:Klaviertrio & Schlagzeug-Duo Schostakowitsch-Projekt // Bosco Gauting
DTSTART;TZID="W. Europe Standard Time":20160917T200000
END:VEVENT
END:VCALENDAR
