BEGIN:VCALENDAR
VERSION:2.0
PRODID:-//hacksw/handcal//NONSGML v1.0//EN
CALSCALE:GREGORIAN
BEGIN:VEVENT
DTEND;TZID="W. Europe Standard Time":20160410T220000
UID:69ea94ce3dd8f
DTSTAMP:20260423T235318
LOCATION:Oberer Kirchenweg 1\, 82131 Gauting
DESCRIPTION:Kurdistan-Irak? Bis vor kurzem war dieses Land den meisten v&ouml\;llig unbekannt. Seit zwei Jahren aber ist Kurdistan in aller Munde. Jeder wei&szlig\; inzwischen\, dass es die Kurden sind\, die dem Vordringen der menschenverachtenden Terrororganisation &bdquo\;Islamischer Staat&ldquo\; Einhalt gebieten. Und dass der Bundestag deshalb in seltener Geschlossenheit die Lieferung von Ausr&uuml\;stung und Waffen an die Kurden erm&ouml\;glicht hat. Doch was ist das f&uuml\;r ein Land? Noch 1990 lag Kurdistan-Irak v&ouml\;llig am Boden: Saddam Hussein hatte &uuml\;ber 150.000 Kurden ermordet\, einige Millionen Menschen vertrieben sowie die Infrastruktur des Landes zerst&ouml\;rt. Was nach dem Sturz Saddams folgte\, war ein Wiederaufbau\, der als &bdquo\;nah&ouml\;stliches Wirtschaftswunder&ldquo\; bezeichnet werden kann. Es entwickelte sich eine offene und westlich orientierte Gesellschaft und ein Staatswesen\, das hinsichtlich seiner demokratischen Strukturen sowie der Behandlung von Frauen und Minderheiten eine positive Ausnahme im Nahen Osten darstellt.\n
\n
Vortr&auml\;ge von Martin Weiss und Abbas al-Khashali zur Situation im Irak:\n
MARTIN WEISS arbeitete als Referent f&uuml\;r Au&szlig\;enpolitik der SPD-Fraktion im Deutschen Bundestag mit Spezialisierung u.a. auf Naher und Mittlerer Osten. Zur Zeit ber&auml\;t er Institutionen wie GIZ\, THW und diverse NGOs.\n
ABBAS AL-KHASHALI arbeitet als Redakteur bei der deutschen Welle und stammt aus der s&uuml\;dirakischen stadt Basra\, er lebt seit 2000 in Deutschland.\n
\n
Ausstellung mit Fotografien von Martin Weiss im boscetto
URL;VALUE=URI:https://bosco-gauting.de/veranstaltungen/martin-weiss-kurdistan-irak
SUMMARY:Martin Weiss Kurdistan-Irak // Bosco Gauting
DTSTART;TZID="W. Europe Standard Time":20160410T200000
END:VEVENT
END:VCALENDAR
