BEGIN:VCALENDAR
VERSION:2.0
PRODID:-//hacksw/handcal//NONSGML v1.0//EN
CALSCALE:GREGORIAN
BEGIN:VEVENT
DTEND;TZID="W. Europe Standard Time":20160423T220000
UID:69e5e64699414
DTSTAMP:20260420T103934
LOCATION:Oberer Kirchenweg 1\, 82131 Gauting
DESCRIPTION:Gauting hat ein neues K&uuml\;nstlerpaar: die aus Padua stammende Paola de Piante Vicin und der Schweizer Pianist Adrian Oetiker wohnen seit Sommer 2014 in der W&uuml\;rmtalgemeinde und geben hier ihr gemeinsames Deb&uuml\;t. De Piante widmet sich neben ihren solistischen Auftritten einer regen Kammermusikt&auml\;tigkeit und ist Gr&uuml\;nderin und Leiterin der Konzertreihe &bdquo\;Klanglichter&ldquo\; in der Schweiz. Ihr Partner Adrian Oetiker ist ein erfolgreicher Solist und Kammermusiker sowie gefragter P&auml\;dagoge. Er hat eine Klavierprofessur an den Hochschulen Basel und M&uuml\;nchen und leitet die internationale Sommerakademie in Lenk.\n
\n
Werke von Schubert\, Mendelssohn\, Dvoř&aacute\;k
URL;VALUE=URI:https://bosco-gauting.de/veranstaltungen/paola-de-piante-vicin-adrian-oetiker-schubert-mendelssohn-dvorak
SUMMARY:Paola de Piante Vicin & Adrian Oetiker Schubert\, Mendelssohn\, Dvorák // Bosco Gauting
DTSTART;TZID="W. Europe Standard Time":20160423T200000
END:VEVENT
END:VCALENDAR
