BEGIN:VCALENDAR
VERSION:2.0
PRODID:-//hacksw/handcal//NONSGML v1.0//EN
CALSCALE:GREGORIAN
BEGIN:VEVENT
DTEND;TZID="W. Europe Standard Time":20160918T180000
UID:69e845e087cf1
DTSTAMP:20260422T055200
LOCATION:Oberer Kirchenweg 1\, 82131 Gauting
DESCRIPTION:Ausstellungser&ouml\;ffnung durch B&uuml\;rgermeisterin Dr. Brigitte K&ouml\;ssinger\n
Musikalische Umrahmung Erik Berthold &amp\; Sandro\n
\n
&quot\;Ein Freund ist jemand\, der die Melodie deines Herzens kennt und sie Dir vorspielt wenn Du sie vergessen hast.&quot\; &ndash\; ALBERT EINSTEIN\n
Freundschaft ist nach der Liebe\, das intensivstes Gef&uuml\;hl. Ein Mensch der uns liebt\, respektiert und unterst&uuml\;tzt\, egal wie man ist\, in allen Momente unseres Lebens\, wenn diese gut oder nicht gut sind. Mit einem Freund lachen wir\, tanzen wir\, feiern wir\, kichern wir und wir k&ouml\;nnen auch weinen. Und das sch&ouml\;nste ist zu wissen\, dass er uns wieder auf die Beine helfen kann\, wenn unsere Fl&uuml\;gel vergessen haben\, wie man fliegt! Das ist f&uuml\;r mich&nbsp\;FREUNDSCHAFT.\n
Sie k&ouml\;nnen sich bestimmt erinnern wie es in der Teenager Zeit wichtig war\, eine beste Freundin zu haben. Ich kann mich erinnern. Es war ein kleine Welt die man nur zu zwei gehabt habe. Lea&nbsp\;und Charlotte\, sind zwei beste Freundinnen. Sie lachen\, kichern zusammen. Sie beraten sich\, h&ouml\;ren aufeinander und teilen viele gemeinsame Momente. Als ich bei den beiden ankam\, war ein Gekicher &uuml\;ber was man anziehen sollte. Einmal hoch gerannt\, ein Kleid gewechselt\, wieder runter gekommen\, sich im Spiegel angeschaut und nach der Meinung gefragt: &ldquo\;Ist das sch&ouml\;n? Sollen wir etwas Lippenstift tragen? Oder nicht?&quot\; Es war ihre kleine Welt zu zweit. F&uuml\;r einen Moment\, bin ich in diese sch&ouml\;ne Zeit der Teenager eingetaucht mit all den sch&ouml\;nen Funkeln!\n
Beschreibung des Fotos mit Charlotte und Lea\, zwei beste Freundinnen.\n
\n
Die Fotografin Jos&eacute\;e Lamarre:\n
Ich bin in einem kleinen\, verlassenen Ort im kanadischen Wald aufgewachsen. Am Ufer den sch&ouml\;nsten Flusses\, den es gibt. Ich verbrachte meine Kindheit barfu&szlig\;\, mit einem Vater\, der seine Tage mit Fischen und seine Abende am Feuer mit Gitarre spielen verbrachte. Und eine Mutter\, die uns in den kalten quebekanischen Winterabenden Wollsocken strickte. Mein freies Herz kommt von dort. In dieser kleinen paradiesischen Ecke lernte ich es\,&nbsp\;das Leben zu sch&auml\;tzen und die Stille zu h&ouml\;ren. Es ist sicher weil wir uns w&auml\;hrend den Winterabenden dem gro&szlig\;en Atlas der Welt ge&ouml\;ffnet haben und auf der Suche nach Abenteuer das ich angefangen zu tr&auml\;umen unsere Erde zu entdecken. Meine Faszination f&uuml\;r die Menschen\, ihr Geschichten und ihr Lebensziel hat eine wichtige teils meines Leben platzt genommen. Dies hat meinen fotografischen Stil sehr stark beeinflusst. Mein Traum war die Welt zu bereisen\, um neue Kulturen zu entdecken und in Bildern das verborgene Leben\, der Menschen zu erz&auml\;hlen. Eines Tages ist mein Herz in Deutschland geblieben\, wo ich die Liebe meines Lebens gefunden habe. Zu zweit haben wir die&nbsp\;zwei wundervollsten Kindern zur&nbsp\;Welt gebracht. Sie sind mein Herz\, mein gr&ouml\;&szlig\;ter Stolz und meine Inspiration.\n
Ich bin &uuml\;berzeugt davon dass das Leben ohne Abenteuer nicht gelebt darf sein.&nbsp\;Ich habe eine Schw&auml\;che f&uuml\;r italienisches Essen. Wenn ich k&ouml\;nnte\, w&uuml\;rde ich jede Woche meine Wohnzimmerdekoration &auml\;ndern. Ich liebe es zu lachen bis ich weine. Ich bin besessen von altem Holz. Ich liebe das prasselnde Ger&auml\;usch von Regen auf Blechd&auml\;chern. Ich tue mich schwer Schokoladeneis zu widerstehen. Man sieht mich am Meisten mit einer alten Jeans\, ein paar Wollsocken und nicht perfekt sitzendem Haar. Ich springe vor Freude\, wenn die Hitze und die Sonne da ist. Ich w&auml\;re gerne ein B&auml\;r\, um Winterschlaf zu halten. Romantische Musik bringt mich zum Weinen. Ich liebe&nbsp\;neblige Landschaften. Ich tr&auml\;ume davon den Tibet zu entdecken. Und eines Tages m&ouml\;chte ich die Welt mit einem Rucksack bereisen.\n
Was mich inspiriert ist die Sch&ouml\;nheit der Liebe und die Verbindung des Wesens. Ich denke dass die Sch&ouml\;nheit sich in der Unvollkommenheit findet und in der Wahrheit jeden Tages. Das Leben ist wahrscheinlich das Sch&ouml\;nste\, was uns mit&nbsp\;seiner Unvollkommenheit und seinen &Uuml\;berraschungen gegeben wurde. So m&ouml\;chte ich es einfangen! Ich m&ouml\;chte sehen\, sp&uuml\;ren und festhalten. Das ist meine Leidenschaft. Jeder Mensch ist f&uuml\;r mich einzigartig und besitzt seine ganz eigene Sch&ouml\;nheit. Mit der Lifestyle- / Reportage Photographie\, fange ich das t&auml\;gliche Leben\, besondere Augenblicke und die pers&ouml\;nliche Lebensart in ganz eigene Bilder ein. Wenn euer Herz euch sagt\, ein kleines St&uuml\;ck eurer Geschichte auf meinem Weg mit mir zu teilen\, w&uuml\;rde ich es lieben es in Bildern zu erz&auml\;hlen. Ich befinde mich die meiste Zeit zwischen M&uuml\;nchen und Montr&eacute\;al\, auch&nbsp\;wenn sie weit weit weg sind\, gen&uuml\;gt mir irgendein Punkt auf der&nbsp\;Karte und ich w&uuml\;rde p&uuml\;nktlich zum Termin erscheinen.
URL;VALUE=URI:https://bosco-gauting.de/veranstaltungen/ausstellungseroeffnung-liebenswertes-leben
SUMMARY:Ausstellungseröffnung L(i)ebenswertes Leben // Bosco Gauting
DTSTART;TZID="W. Europe Standard Time":20160918T160000
END:VEVENT
END:VCALENDAR
