BEGIN:VCALENDAR
VERSION:2.0
PRODID:-//hacksw/handcal//NONSGML v1.0//EN
CALSCALE:GREGORIAN
BEGIN:VEVENT
DTEND;TZID="W. Europe Standard Time":20170401T220000
UID:69e5faa56de7b
DTSTAMP:20260420T120629
LOCATION:Oberer Kirchenweg 1\, 82131 Gauting
DESCRIPTION:Tina Teubner\, begnadete Komikerin\, &uuml\;berirdische Musikerin\, Kernkompetenz auf dem Gebiet des autorit&auml\;ren Liebesliedes\, hat die Erziehung ihres Mannes erfolgreich abgeschlossen und sucht nach neuen Herausforderungen. Die Grenzen zwischen &bdquo\;privat&ldquo\; und &bdquo\;politisch&ldquo\; sind nicht mehr aufrecht zu erhalten. Die Welt brennt: Tina wagt den Blick ins Innerste. Mit ihrer rasiermesserscharfen Intelligenz\, ihrem unwiderstehlichen Humor und ihrer weltumfassenden Herzensw&auml\;rme scheucht sie ihr Publikum auf: Nicht kratzen. Waschen.\n
Tolstoi schreibt: &bdquo\;Alle wollen die Welt ver&auml\;ndern\, niemand sich selbst.&ldquo\; Wie w&auml\;re es mit folgendem Gesch&auml\;ftsmodell: Tina ver&auml\;ndert die Welt\, Ben muss an sich arbeiten\, und das Publikum darf dabei zugucken. Zwei Stunden Tina Teubner sind so sch&ouml\;n wie die erste Liebe und so wirksam wie zwei Jahre Couch. Hingehen!\n
\n
&bdquo\;Tina Teubner war\, ist und bleibt die aufregendste\, nachhaltigste und unterhaltsamste Frau der deutschen Kleinkunstszene.&ldquo\; (HSA)\n
\n
Tina Teubner im bosco:\n
\n
\n
&nbsp\;
URL;VALUE=URI:https://bosco-gauting.de/veranstaltungen/tina-teubner-ben-sueverkruep-wenn-du-mich-verlaesst-komm-ich-mit
SUMMARY:Tina Teubner & Ben Süverkrüp Wenn du mich verlässt komm ich mit // Bosco Gauting
DTSTART;TZID="W. Europe Standard Time":20170401T200000
END:VEVENT
END:VCALENDAR
