BEGIN:VCALENDAR
VERSION:2.0
PRODID:-//hacksw/handcal//NONSGML v1.0//EN
CALSCALE:GREGORIAN
BEGIN:VEVENT
DTEND;TZID="W. Europe Standard Time":20170121T220000
UID:69ed3f8cca923
DTSTAMP:20260426T002620
LOCATION:Oberer Kirchenweg 1\, 82131 Gauting
DESCRIPTION:K&ouml\;nnten sich noch mehr Menschen in Deutschland ehrenamtlich engagieren\, wenn es bezahlt w&uuml\;rde? Bedeutet Chancengleichheit\, dass der Langsamste die Reisegeschwindigkeit aller bestimmt? Sind die staatlichen Schulen die AOK des Bildungswesens? Heisst es noch &bdquo\;Familie&ldquo\;? Oder bereits &bdquo\;Whatsapp-Gruppe&ldquo\;? Und was ist heute politischer? W&auml\;hlen gehen? Oder &Auml\;pfel aus der Region kaufen? Frank L&uuml\;decke redet &uuml\;ber die Verh&auml\;ltnisse und wirft einen vergn&uuml\;glichen Blick in die Seele zivilisationsgestresster Mitteleurop&auml\;er. Das Digitale\, die Demokratie\, Europa - all das kann Spuren von Pointen enthalten. Und jede Menge Hoffnung. Denn bei allen Schwierigkeiten sollten wir nicht vergessen: es ist doch f&uuml\;r alle noch genug Schaum auf dem Cappuccino! L&uuml\;deckes politisches Kabarett macht Anleihen bei der Philosophie\, verwendet Musik und lehnt Originalit&auml\;t und Unabh&auml\;ngigkeit nicht von vornherein ab. &Uuml\;ber die Verh&auml\;ltnisse ist hintersinniges Kabarett und trotzdem witzig und unterhaltsam. Nein\, das muss kein Gegensatz sein.\n
\n
Frank L&uuml\;decke (Deutscher Kabarettpreis 2009\, Bayerischer Kabarettpreis 2010\, Deutscher Kleinkunstpreis 2011)\, viele Jahre Mitglied beim &bdquo\;Scheibenwischer&ldquo\;\, geh&ouml\;rt seit Jahren zur ersten Riege des deutschen Kabaretts. Er war Hauptautor f&uuml\;r Dieter Hallervorden und K&uuml\;nstlerischer Leiter der &bdquo\;Distel&ldquo\; in Berlin\, er schreibt satirische Theaterst&uuml\;cke und Kolumnen. In seinen Programmen beweist er &bdquo\;bitterb&ouml\;se und unendlich charmant\, dass man als politischer Kabarettist den Spagat zwischen intellektuellem Witz und Unterhaltung gl&auml\;nzend meistern kann&ldquo\; (Internet-Kabarettpreis &bdquo\;Zeck&ldquo\;).\n
\n

URL;VALUE=URI:https://bosco-gauting.de/veranstaltungen/frank-luedecke-ueber-die-verhaeltnisse-0
SUMMARY:Frank Lüdecke Über die Verhältnisse // Bosco Gauting
DTSTART;TZID="W. Europe Standard Time":20170121T200000
END:VEVENT
END:VCALENDAR
