BEGIN:VCALENDAR
VERSION:2.0
PRODID:-//hacksw/handcal//NONSGML v1.0//EN
CALSCALE:GREGORIAN
BEGIN:VEVENT
DTEND;TZID="W. Europe Standard Time":20161009T190000
UID:69ecc47ec4928
DTSTAMP:20260425T154118
LOCATION:Oberer Kirchenweg 1\, 82131 Gauting
DESCRIPTION:Die Gautinger T&auml\;nzerin und Choreographin ist dem bosco-Publikum vor allem vertraut durch die Tanztheaterproduktionen f&uuml\;r Damen und Herren ab 60 &bdquo\;Bewegtes Leben 2068&ldquo\;\, &bdquo\;Gratwanderer&ldquo\; und &quot\;Nr. 3&quot\; die sie alle hier auf die B&uuml\;hne brachte. Au&szlig\;erdem haben zahlreiche Gautinger Kinder bei ihr die ersten t&auml\;nzerischen Schritte gelernt\, in den Kursen f&uuml\;r Kreativen Tanz.\n
Doch Bettina Fritsche\, die mit ihrer Familie - dem Schauspieler Matthias Friedrich und den beiden inzwischen schon erwachsenen T&ouml\;chtern - nach einer Station in Stockdorf mittlerweile lange schon in Gauting lebt\, hat wie alle B&uuml\;hnenk&uuml\;nstler eine bewegte Zeit des Wanderns und Reifens hinter sich. Auf ihre Ausbildung an der John Cranko Ballettschule Stuttgart und der Ballettakademie der W&uuml\;rttembergischen Staatstheater Stuttgart folgten Engagements am Theater Ulm \, denVereinigten B&uuml\;hnen Krefeld-M&ouml\;nchengladbach und der Deutschen Oper am Rhein D&uuml\;sseldorf. Unter Paolo Bortuluzzi wird sie 1988 Ensemble-mitglied des Staatstheaters am&nbsp\; G&auml\;rtnerplatz M&uuml\;nchen wo sie unter anderem in Ballett- und Opernproduktionen von G&uuml\;nther Pick\, Jose Limon\, Birgit Cullberg\, Kurt Joos\, Claus Guth\, Immo Karaman\, und Rosamund Gilmore solistische Aufgaben &uuml\;bernimmt.\n
Seit Bettina Fritsche in M&uuml\;nchen ist\, beginnt sie ihr berufliches Spektrum zu erweitern und arbeitet sowohl als Schauspielerin und Musicaldarstellerin als auch als Choreographin und Tanzp&auml\;dagogin. 2005 erh&auml\;lt sie einen Lehrauftrag f&uuml\;r B&uuml\;hnentanz und Bewegung an der Hochschule f&uuml\;r Musik\, M&uuml\;nchen.\n
Beim Tee wird sie im Gespr&auml\;ch vom Leben in der K&uuml\;nstlerfamilie erz&auml\;hlen sowie einen Einblick geben in die Welt des Tanzes und was diese an Vielfalt und Geschichten bereith&auml\;lt.\n
&nbsp\;
URL;VALUE=URI:https://bosco-gauting.de/veranstaltungen/bettina-fritsche-taenzerin-choreografin
SUMMARY:Bettina Fritsche Tänzerin & Choreografin // Bosco Gauting
DTSTART;TZID="W. Europe Standard Time":20161009T170000
END:VEVENT
END:VCALENDAR
