BEGIN:VCALENDAR
VERSION:2.0
PRODID:-//hacksw/handcal//NONSGML v1.0//EN
CALSCALE:GREGORIAN
BEGIN:VEVENT
DTEND;TZID="W. Europe Standard Time":20161023T220000
UID:69e888503ebcd
DTSTAMP:20260422T103528
LOCATION:Oberer Kirchenweg 1\, 82131 Gauting
DESCRIPTION:Als Theaterschauspieler wird man immer wieder gefragt: &quot\;Wie k&ouml\;nnen Sie sich all die Texte merken?&quot\; Aber niemals fragt jemand: &quot\;Wie wird man die Texte wieder los?&quot\; Die Worte\, Handwerkszeug zum Erfassen von St&uuml\;cken und Rollen\, sie f&uuml\;hren ein fragmentarisches Eigenleben in meinem Kopf. Sie bilden ein Labyrinth aus Buchstaben und zahlen\, verhalten sich reflexartig zueinander und beziehen sich aufeinander\, stellen neue Bedeutungen und zusammenh&auml\;nge her. Es ist eine Vokabelwelt\, ein Geb&auml\;ude aus fertigen Denkst&uuml\;cken. zum Denken ungeeignet\, h&ouml\;chstens zum Nach-Denken. &quot\;Die W&ouml\;rter ruinieren das Denken&quot\; ist ein Remix aus Texten nach\n
B&uuml\;chner und Beckett\, Shakespeare und Schiller\, Celan und Jelinek&hellip\; &ndash\; dem &quot\;Who is Who&quot\; der Weltliteratur.\n
\n
STEFAN HUNSTEIN geh&ouml\;rt seit mehr als 30 Jahren zu den Protagonisten des deutschsprachigen Theaters. Er ist als Fernseh- und Kinoschauspieler bekannt\, au&szlig\;erdem f&uuml\;r eigene Regiearbeiten und international als Fotok&uuml\;nstler.\n
\n
Komposition und Musik:\n
AXEL NITZ\n
\n

URL;VALUE=URI:https://bosco-gauting.de/veranstaltungen/stefan-hunstein-die-woerter-ruinieren-das-denken-0
SUMMARY:Stefan Hunstein Die Wörter ruinieren das Denken // Bosco Gauting
DTSTART;TZID="W. Europe Standard Time":20161023T200000
END:VEVENT
END:VCALENDAR
