BEGIN:VCALENDAR
VERSION:2.0
PRODID:-//hacksw/handcal//NONSGML v1.0//EN
CALSCALE:GREGORIAN
BEGIN:VEVENT
DTEND;TZID="W. Europe Standard Time":20160724T200000
UID:69e84589d5acc
DTSTAMP:20260422T055033
LOCATION:Oberer Kirchenweg 1\, 82131 Gauting
DESCRIPTION:&bdquo\;Jedem Anfang&nbsp\; wohnt ein Zauber inne&ldquo\; &ndash\; Sch&uuml\;ler von Matthias Drievko musizieren im Bosco in Gauting &ndash\; dabei wird gleichzeitig ein neuer Kinderchor geboren\n
&nbsp\;\n
Die &bdquo\;n&auml\;chste Generation&ldquo\; der Klaviersch&uuml\;ler und Gesangssch&uuml\;ler von Matthias Drievko\, der seit 2015 auch im Studio Musik und Bewegung (Dagmar Sedlmayr) in Gauting unterrichtet\, pr&auml\;sentiert sich mit einem bunten und vergn&uuml\;glichen Programm.&nbsp\; Zu h&ouml\;ren sind Melodien aus den Filmen&nbsp\; &bdquo\;Die Kinder des Monsieur Matthieu&ldquo\; und &bdquo\;Harry Potter&ldquo\;\, sowie Volkslieder und&nbsp\; Werke&nbsp\; von &nbsp\;Bach\, Mozart\,&nbsp\; Schubert\, &nbsp\;Poser und vielen anderen. &nbsp\;Erstmals formieren sich die j&uuml\;ngsten Sch&uuml\;ler von Matthias Drievko&nbsp\; zu einem neuen Kinderchor. &nbsp\;Eine der vielen Besonderheiten wird&nbsp\; die Urauff&uuml\;hrung eines Klavier-St&uuml\;ckes des erst sechsj&auml\;hrigen Philip Methe&nbsp\; sein -&nbsp\; ganz nach dem Motto des Konzertes\, einer ber&uuml\;hmten Gedicht-Zeile Hermann von Hesse: &bdquo\;Jedem Anfang wohnt ein Zauber inne&ldquo\;&hellip\;\n
&nbsp\;
URL;VALUE=URI:https://bosco-gauting.de/veranstaltungen/studio-musik-bewegung-dagmar-sedlmayer-jedem-anfang-wohnt-ein-zauber-inne
SUMMARY:Studio Musik & Bewegung Dagmar Sedlmayer Jedem Anfang wohnt ein Zauber inne.... // Bosco Gauting
DTSTART;TZID="W. Europe Standard Time":20160724T180000
END:VEVENT
END:VCALENDAR
