BEGIN:VCALENDAR
VERSION:2.0
PRODID:-//hacksw/handcal//NONSGML v1.0//EN
CALSCALE:GREGORIAN
BEGIN:VEVENT
DTEND;TZID="W. Europe Standard Time":19700101T010000
UID:69e8464517555
DTSTAMP:20260422T055341
LOCATION:Oberer Kirchenweg 1\, 82131 Gauting
DESCRIPTION:Beschreibung des Fotos mit Charlotte und Lea\, zwei beste Freundinnen.\n
&quot\;Ein Freund ist jemand\, der die Melodie deines Herzens kennt und sie Dir vorspielt wenn Du sie vergessen hast.&quot\; &ndash\; ALBERT EINSTEIN\n
\n
Freundschaft ist nach der Liebe\, das intensivstes Gef&uuml\;hl. Ein Mensch der uns liebt\, respektiert und unterst&uuml\;tzt\, egal wie man ist\, in allen Momente unseres Lebens\, wenn diese gut oder nicht gut sind. Mit einem Freund lachen wir\, tanzen wir\, feiern wir\, kichern wir und wir k&ouml\;nnen auch weinen. Und das sch&ouml\;nste ist zu wissen\, dass er uns wieder auf die Beine helfen kann\, wenn unsere Fl&uuml\;gel vergessen haben\, wie man fliegt! Das ist f&uuml\;r mich&nbsp\;FREUNDSCHAFT.\n
\n
Sie k&ouml\;nnen sich bestimmt erinnern wie es in der Teenager Zeit wichtig war\, eine beste Freundin zu haben. Ich kann mich erinnern. Es war ein kleine Welt die man nur zu zwei gehabt habe. Lea&nbsp\;und Charlotte\, sind zwei beste Freundinnen. Sie lachen\, kichern zusammen. Sie beraten sich\, h&ouml\;ren aufeinander und teilen viele gemeinsame Momente. Als ich bei den beiden ankam\, war ein Gekicher &uuml\;ber was man anziehen sollte. Einmal hoch gerannt\, ein Kleid gewechselt\, wieder runter gekommen\, sich im Spiegel angeschaut und nach der Meinung gefragt: &ldquo\;Ist das sch&ouml\;n? Sollen wir etwas Lippenstift tragen? Oder nicht?&quot\; Es war ihre kleine Welt zu zweit. F&uuml\;r einen Moment\, bin ich in diese sch&ouml\;ne Zeit der Teenager eingetaucht mit all den sch&ouml\;nen Funkeln!\n
\n
Die Fotografin Jos&eacute\;e Lamarre:\n
Ich bin in einem kleinen\, verlassenen Ort im kanadischen Wald aufgewachsen. Am Ufer des sch&ouml\;nsten Flusses\, den es gibt. Ich verbrachte meine Kindheit barfu&szlig\;\, mit einem Vater\, der seine Tage mit Fischen und seine Abende am Feuer mit Gitarre spielen verbrachte. Und eine Mutter\, die uns in den kalten quebekanischen Winterabenden Wollsocken strickte. Mein freies Wesen kommt von dort. In dieser kleinen paradiesischen Ecke lernte ich es\, das Leben zu sch&auml\;tzen und die Stille zu h&ouml\;ren. In meiner Kindheit gab mir ein alter Atlas Einblicke in unsere gro&szlig\;e weite&nbsp\;Welt. Er lies mich von Abenteuern tr&auml\;umen und inspirierte mich die Welt&nbsp\;zu entdecken. Meine Faszination f&uuml\;r Menschen\, ihre Geschichten und ihre Lebensweisen war seither immer ein wichtiger Teil meines Lebens. Dies hat meinen fotografischen Stil sehr stark beeinflusst. Mein Traum war die Welt zu bereisen\, um neue Kulturen zu entdecken und in Bildern das verborgene Leben\, der Menschen zu erz&auml\;hlen. Eines Tages ist mein Herz in Deutschland geblieben\, wo ich die Liebe meines Lebens gefunden habe. Zu zweit haben wir zwei wundervolle Kinder. Sie sind mein Herz\, mein gr&ouml\;&szlig\;ter Stolz und meine Inspiration.\n
\n
Ein bisschen mehr von mir&hellip\;\n
Ich bin &uuml\;berzeugt davon\, das Abenteuer f&uuml\;r das Leben eine Bereicherung sind. Ich habe eine Schw&auml\;che f&uuml\;r italienisches Essen. Wenn ich k&ouml\;nnte\, w&uuml\;rde ich jede Woche meine Wohnzimmerdekoration &auml\;ndern. Ich liebe es zu lachen bis ich weine. Ich bin besessen von altem Holz. Ich liebe das prasselnde Ger&auml\;usch von Regen auf Blechd&auml\;chern. Ich tue mich schwer Schokoladeneis zu widerstehen. Man sieht mich am Meisten mit einer alten Jeans\, ein paar Wollsocken und nicht perfekt sitzendem Haar. Ich springe vor Freude\, wenn die Hitze und die Sonne da ist. Ich w&auml\;re gerne ein B&auml\;r\, um Winterschlaf zu halten. Romantische Musik bringt mich zum Weinen. Ich liebe&nbsp\;neblige Landschaften. Ich tr&auml\;ume davon Tibet zu entdecken. Und eines Tages m&ouml\;chte ich die Welt mit einem Rucksack bereisen.\n
&nbsp\;\n
Was mich inspiriert ist die Sch&ouml\;nheit der Liebe und die Verbindung zwischen Menschen. Ich denke\, dass die Sch&ouml\;nheit sich in der Unvollkommenheit findet und in der Echtheit das Einzelnen. Das Leben ist wahrscheinlich das Sch&ouml\;nste\, was uns mit&nbsp\;seiner Unvollkommenheit und seinen &Uuml\;berraschungen gegeben wurde. So m&ouml\;chte ich es einfangen! Ich m&ouml\;chte sehen\, sp&uuml\;ren und festhalten. Das ist meine Leidenschaft. Jeder Mensch ist f&uuml\;r mich einzigartig und besitzt seine ganz eigene Sch&ouml\;nheit. Mit der Lifestyle- / Reportage Photographie fange ich das t&auml\;gliche Leben\, besondere Augenblicke und die pers&ouml\;nliche Lebensart in ganz eigenen Bildern ein. Wenn Ihr Herz ihnen sagt\, einen kleinen Teil Ihrer Geschichte mit mir zu teilen\, w&uuml\;rde ich es lieben ihn in Photos zu erz&auml\;hlen.
URL;VALUE=URI:https://bosco-gauting.de/veranstaltungen/josee-lamarre-liebenswertes-leben
SUMMARY:Josée Lamarre L(i)ebenswertes Leben // Bosco Gauting
DTSTART;TZID="W. Europe Standard Time":19700101T010000
END:VEVENT
END:VCALENDAR
