BEGIN:VCALENDAR
VERSION:2.0
PRODID:-//hacksw/handcal//NONSGML v1.0//EN
CALSCALE:GREGORIAN
BEGIN:VEVENT
DTEND;TZID="W. Europe Standard Time":20170315T220000
UID:69e51d293b5f4
DTSTAMP:20260419T202129
LOCATION:Oberer Kirchenweg 1\, 82131 Gauting
DESCRIPTION:Meist bleibt es nicht dabei\, oder nur kurzzeitig &ndash\; l&auml\;ngeres Bestehen ist ihren Grunds&auml\;tzen beschieden wie etwa die drei Symbolbegriffe der Franz&ouml\;sischen Revolution &bdquo\;Freiheit\, Gleichheit\, Br&uuml\;derlichkeit&ldquo\; oder die wenige Jahre zuvor formulierte Verfassung der Vereinigten Staaten von Amerika. Eine kurze Episode direkter Demokratie blieben auch verschiedene Modelle der R&auml\;terepublik\, unter anderem die in Bayern. Die Revolution beginnt auf der Theresienwiese\, ausgerechnet\, unterhalb der Bavaria. Kurt Eisner spricht\, und die Mehrheit folgt ihm\, auch Oskar Maria Graf: &bdquo\;Wir marschierten\, eingekeilt von einer dahinst&uuml\;rmenden Menge\, fast ganz an der Spitze\, kaum f&uuml\;nf Schritt entfernt von Eisner.&ldquo\; Im Math&auml\;serbr&auml\;u findet die Arbeiter- und Soldatenratswahl statt: &bdquo\;Aus ist&rsquo\;s! Revolution! Marsch!&ldquo\; Im Leben meiner Mutter zweifelt Graf freilich daran\, ob man das Volk voranbringen kann\, aber lieben muss man es. Graf vertraut auf das m&uuml\;tterliche Prinzip\,welches etwas Bauendes\, Sch&ouml\;pferisches hat\, w&auml\;hrend das ewige Planen\, die Ideologien nicht so wichtig sind\, wie angenommen wird. Seine Mutter bringt es f&uuml\;r ihn auf den Punkt: &bdquo\;Die Schlechtigkeit ist nicht umzubringen auf der Welt\, blo&szlig\; wir d&uuml\;rfen nicht schlecht sein.&ldquo\; und: &bdquo\;Keinen Menschen zwingen\, sich selbst nicht zwingen lassen&ldquo\;\, das ist das &bdquo\;politische Programm&ldquo\;\, das Mutter Graf ihren Kindern mitgibt. und: &bdquo\;es ist nichts umsonst gewesen!&ldquo\;\n
\n
Reihe: Wie h&auml\;tten wir&#39\;s denn gern? Modelle f&uuml\;r Staat und Gesellschaft.\n
Konzeption &amp\; Moderation: GERD HOLZHEIMER\n
Sprecher: HEINZ PETER
URL;VALUE=URI:https://bosco-gauting.de/veranstaltungen/gerd-holzheimer-direkte-demokratie-raeterepublik-direktmandat-volksentscheid
SUMMARY:Gerd Holzheimer Direkte Demokratie\, Räterepublik\, Direktmandat\, Volksentscheid // Bosco Gauting
DTSTART;TZID="W. Europe Standard Time":20170315T200000
END:VEVENT
END:VCALENDAR
