BEGIN:VCALENDAR
VERSION:2.0
PRODID:-//hacksw/handcal//NONSGML v1.0//EN
CALSCALE:GREGORIAN
BEGIN:VEVENT
DTEND;TZID="W. Europe Standard Time":20170306T220000
UID:69e5e7394959a
DTSTAMP:20260420T104337
LOCATION:Oberer Kirchenweg 1\, 82131 Gauting
DESCRIPTION:Wer ist Richard III? Richard III &ndash\; seit Generationen das Inbild des abgrundtief B&ouml\;sen\, der homo homini lupus\, der Schl&auml\;chter. Richard Gloucester - der Missgestaltete\, der radikal Einsame in einer Gesellschaft\, deren Mitglieder nicht weniger Schuld als er auf sich geladen haben\, aber die Unschuldigen spielen. Richard\, letzter K&ouml\;nig des Hauses York\, ein Spieler- Virtuose\, dessen ideenreiches Machtspiel mit h&ouml\;chstem Einsatz in die Selbst-Vernichtung f&uuml\;hrt.\n
\n
Auf seinem Weg an die Spitze eines verkommenen Staatsgebildes ist Richard entschlossen und ohne Skrupel. Er t&ouml\;tet seine engsten Verwandten\, schreckt auch vor Morden an Kindern nicht zur&uuml\;ck\, wirbt um die Witwe eines von ihm ermordeten Prinzen\, l&auml\;sst seine Komplizen nach getaner Arbeit k&ouml\;pfen. Die Frauen in seinem Reich\, angezogen von seiner Verf&uuml\;hrungskraft\, abgesto&szlig\;en von seiner B&ouml\;sartigkeit\, verm&ouml\;gen nicht\, ihn aufzuhalten. Als alle Gegner geflohen oder geschlagen sind\, England zu einem &ouml\;den\, verlorenen Land zu werden droht\, formiert sich Widerstand in Frankreich. In der entscheidenden Schlacht vernichtet Richard sein letztes Opfer\, sich selbst.\n
Weit m&uuml\;ssen wir nicht schauen\, um die Richards unserer Zeit zu entdecken\, die Gesellschaften und politischen Systeme\, in denen Vertrauen t&ouml\;dlich sein kann&hellip\;\n
\n
St&uuml\;ckdauer: ca. 2\,30 Std.\, eine Pause\n
Einf&uuml\;hrung: 19.15 Uhr\n
\n
Regie RICARDA BEILHARZ\n
Mit FRANK AUERBACH\, CHRISTIAN BERGMANN\, ULRIKE KNOSPE\, PETER L&Uuml\;CHINGER\, MICHAEL MEYER\, THERESA ROSE\, KATHRIN STEINWEG
URL;VALUE=URI:https://bosco-gauting.de/veranstaltungen/bremer-shakespeare-company-richard-iii-von-w-shakespeare
SUMMARY:Bremer Shakespeare Company "Richard III" von W. Shakespeare // Bosco Gauting
DTSTART;TZID="W. Europe Standard Time":20170306T200000
END:VEVENT
END:VCALENDAR
