BEGIN:VCALENDAR
VERSION:2.0
PRODID:-//hacksw/handcal//NONSGML v1.0//EN
CALSCALE:GREGORIAN
BEGIN:VEVENT
DTEND;TZID="W. Europe Standard Time":20171013T220000
UID:69e74658210be
DTSTAMP:20260421T114144
LOCATION:Oberer Kirchenweg 1\, 82131 Gauting
DESCRIPTION:Das 40-j&auml\;hrige Bandjubil&auml\;um feiert der Spider Murphy Gang Pianist Ludwig Seuss mit seinen Kollegen in der Olympiahalle. Einem gro&szlig\;en Publikum ist er in dieser Rolle seit 30 Jahren bekannt. Fast ebenso lang hat Seuss seine eigene Band\, mit der er seine Leidenschaft f&uuml\;r die Roots- und speziell f&uuml\;r Bluesmusik aus den S&uuml\;dstaaten der USA pflegt.\n
&nbsp\;\n
Auf seiner mittlerweile 17. CD geht es diesmal zur&uuml\;ck zu den Anf&auml\;ngen. Auf vielfachen Wunsch hat er sich wieder ganz dem Boogie Woogie und dem Piano-Blues gewidmet\, wie er ihn zu Beginn seiner Karriere in vielen Clubkonzerten solo\, oder mit der Nick Woodland Band zelebriert hat. So geht es auf &bdquo\;Ludwig Seuss and the Boogie Men&ldquo\; zur&uuml\;ck zu den Boogieklassikern &bdquo\;Honky Tonky Train Blues&ldquo\; oder Pinetop&acute\;s Boogie&ldquo\; und zu eigenen Kompositionen wie &bdquo\;Wuermtal Lullaby&ldquo\;\, &bdquo\;Fessology&ldquo\; oder dem meditativen\, Louisina Red gewidmeten &bdquo\;Blues for Red&ldquo\;.\n
&nbsp\;\n
Die reine Boogielehre war Ludwig Seuss aber schon immer zu einseitig\, deshalb ist alles mit viel New Orleans Groove\, Rock&acute\;n&acute\;Roll und einem Schuss Zydeco angereichert. Vom typischen &bdquo\;Chicago Bound&ldquo\; &ndash\; Bluesshuffle bis zum live aufgenommenen &bdquo\;Schuitog&ldquo\; von und mit G&uuml\;nther Sigl.\n
\n
LUDWIG SEUSS\, piano\, accordion\, vocals\n
TOM PESCHEL\, bass\n
CHRISTOPH B&Ouml\;HM\, guitar\n
MANFRED MILDENBERGER\, drums\n
Special guest\n
DR. WILL\, vocals\, percussion\, rubboard
URL;VALUE=URI:https://bosco-gauting.de/veranstaltungen/ludwig-seuss-band-ludwig-seuss-boogie-men
SUMMARY:Ludwig Seuss Band Ludwig Seuss an the Boogie men // Bosco Gauting
DTSTART;TZID="W. Europe Standard Time":20171013T200000
END:VEVENT
END:VCALENDAR
